BEGIN:VCALENDAR
VERSION:2.0
PRODID:-//eventon.com NONSGML v1.0//EN
BEGIN:VEVENT
UID:69e73b9f23d35
DTSTAMP:20260421T085559
DTSTART:20171203T193000Z
DTEND:20171203T203000Z
LOCATION:Landestheater Linz\,  Austria 
SUMMARY:Linz\,  Austria
DESCRIPTION: Rigoletto\,  Verdi Gilda
END:VEVENT
END:VCALENDAR