BEGIN:VCALENDAR
VERSION:2.0
PRODID:-//eventon.com NONSGML v1.0//EN
BEGIN:VEVENT
UID:69e7375b5a6ad
DTSTAMP:20260421T083747
DTSTART:20171231T190000Z
DTEND:20171231T235000Z
LOCATION:Concert Hall\,  Warsaw Philharmonic\,  Warsaw\,  Poland 
SUMMARY:Warsaw\,  Poland
DESCRIPTION: New Years Eve Gala with music by Johann Strauss Arias from Die Fledermaus\,  Wiener Blut\,  Eine Nacht in Venedig and others
END:VEVENT
END:VCALENDAR