BEGIN:VCALENDAR
VERSION:2.0
PRODID:-//eventon.com NONSGML v1.0//EN
BEGIN:VEVENT
UID:69e73a990efb1
DTSTAMP:20260421T085137
DTSTART:20180331T193000Z
DTEND:20180331T203000Z
LOCATION:Theater Ulm\,  Germany 
SUMMARY:Ulm\,  Germany
DESCRIPTION: Motezuma\,  Vivaldi Fernando Cortez
END:VEVENT
END:VCALENDAR