BEGIN:VCALENDAR
VERSION:2.0
PRODID:-//eventon.com NONSGML v1.0//EN
BEGIN:VEVENT
UID:69e736a188fd9
DTSTAMP:20260421T083441
DTSTART:20180413T190000Z
DTEND:20180413T200000Z
LOCATION:Theater Ulm\,  Germany 
SUMMARY:Ulm\,  Germany
DESCRIPTION: Motezuma\,  Vivaldi Fernando Cortez
END:VEVENT
END:VCALENDAR