BEGIN:VCALENDAR
VERSION:2.0
PRODID:-//eventon.com NONSGML v1.0//EN
BEGIN:VEVENT
UID:69e736a06af6c
DTSTAMP:20260421T083440
DTSTART:20180415T193000Z
DTEND:20180415T203000Z
LOCATION:Theater Ulm\,  Germany 
SUMMARY:Ulm\,  Germany
DESCRIPTION: Motezuma\,  Vivaldi Fernando Cortez
END:VEVENT
END:VCALENDAR