BEGIN:VCALENDAR
VERSION:2.0
PRODID:-//eventon.com NONSGML v1.0//EN
BEGIN:VEVENT
UID:69e736e01159d
DTSTAMP:20260421T083544
DTSTART:20180420T193000Z
DTEND:20180420T203000Z
LOCATION:Theater Ulm\,  Germany 
SUMMARY:Ulm\,  Germany
DESCRIPTION: Motezuma\,  Vivaldi Fernando Cortez
END:VEVENT
END:VCALENDAR