BEGIN:VCALENDAR
VERSION:2.0
PRODID:-//eventon.com NONSGML v1.0//EN
BEGIN:VEVENT
UID:69e7400d9b44a
DTSTAMP:20260421T091453
DTSTART:20180424T193000Z
DTEND:20180424T203000Z
LOCATION:Theater Ulm\,  Germany 
SUMMARY:Ulm\,  Germany
DESCRIPTION: Motezuma\,  Vivaldi Fernando Cortez
END:VEVENT
END:VCALENDAR