BEGIN:VCALENDAR
VERSION:2.0
PRODID:-//eventon.com NONSGML v1.0//EN
BEGIN:VEVENT
UID:69e73a047e442
DTSTAMP:20260421T084908
DTSTART:20180624T190000Z
DTEND:20180624T235000Z
LOCATION:Royal Opera House\,  London 
SUMMARY:London\,  UK
DESCRIPTION: Susan Chilcott Award (FINALIST)
END:VEVENT
END:VCALENDAR