BEGIN:VCALENDAR
VERSION:2.0
PRODID:-//eventon.com NONSGML v1.0//EN
BEGIN:VEVENT
UID:69e7387523ba3
DTSTAMP:20260421T084229
DTSTART:20181020T190000Z
DTEND:20181020T200000Z
LOCATION:Deutsche Oper am Rhein\,  Duisburg\,  Germany 
SUMMARY:Duisburg\,  Germany
DESCRIPTION: L'enfant et les sortilèges\,  Ravel Le Feu/La Princesse/Le Rossignol​
END:VEVENT
END:VCALENDAR