BEGIN:VCALENDAR
VERSION:2.0
PRODID:-//eventon.com NONSGML v1.0//EN
BEGIN:VEVENT
UID:69e737bd50383
DTSTAMP:20260421T083925
DTSTART:20181127T190000Z
DTEND:20181127T200000Z
LOCATION:Deutsche Oper am Rhein\,  Duisburg\,  Germany 
SUMMARY:Duisburg\,  Germany
DESCRIPTION: L'enfant et les sortilèges\,  Ravel Le Feu/La Princesse/Le Rossignol​
END:VEVENT
END:VCALENDAR