BEGIN:VCALENDAR
VERSION:2.0
PRODID:-//eventon.com NONSGML v1.0//EN
BEGIN:VEVENT
UID:69e7377f3b426
DTSTAMP:20260421T083823
DTSTART:20181208T190000Z
DTEND:20181208T235000Z
LOCATION:Staatsoper Hannover\,  Germany 
SUMMARY:Hannover\,  Germany
DESCRIPTION: Was ihr wollt\,  Manfred Trojahn Maria
END:VEVENT
END:VCALENDAR