BEGIN:VCALENDAR
VERSION:2.0
PRODID:-//eventon.com NONSGML v1.0//EN
BEGIN:VEVENT
UID:69e73869d5ae4
DTSTAMP:20260421T084217
DTSTART:20181214T190000Z
DTEND:20181214T200000Z
LOCATION:Staatsoper Hannover\,  Germany 
SUMMARY:Hannover\,  Germany
DESCRIPTION: Was ihr wollt\,  Manfred Trojahn Maria
END:VEVENT
END:VCALENDAR