BEGIN:VCALENDAR
VERSION:2.0
PRODID:-//eventon.com NONSGML v1.0//EN
BEGIN:VEVENT
UID:69e736a2a4c7e
DTSTAMP:20260421T083442
DTSTART:20181227T190000Z
DTEND:20181227T200000Z
LOCATION:Staatsoper Hannover\,  Germany 
SUMMARY:Hannover\,  Germany
DESCRIPTION: Was ihr wollt\,  Manfred Trojahn Maria
END:VEVENT
END:VCALENDAR