BEGIN:VCALENDAR
VERSION:2.0
PRODID:-//eventon.com NONSGML v1.0//EN
BEGIN:VEVENT
UID:69e73b9f2381f
DTSTAMP:20260421T085559
DTSTART:20190105T190000Z
DTEND:20190105T200000Z
LOCATION:Staatsoper Hannover\,  Germany 
SUMMARY:Hannover\,  Germany
DESCRIPTION: Was ihr wollt\,  Manfred Trojahn Maria
END:VEVENT
END:VCALENDAR