BEGIN:VCALENDAR
VERSION:2.0
PRODID:-//eventon.com NONSGML v1.0//EN
BEGIN:VEVENT
UID:69e737593fd64
DTSTAMP:20260421T083745
DTSTART:20190108T190000Z
DTEND:20190108T200000Z
LOCATION:Staatsoper Hannover\,  Germany 
SUMMARY:Hannover\,  Germany
DESCRIPTION: Was ihr wollt\,  Manfred Trojahn Maria
END:VEVENT
END:VCALENDAR