BEGIN:VCALENDAR
VERSION:2.0
PRODID:-//eventon.com NONSGML v1.0//EN
BEGIN:VEVENT
UID:69e737d2bfde4
DTSTAMP:20260421T083946
DTSTART:20190118T190000Z
DTEND:20190118T235000Z
LOCATION:Théâtre des Champs Elysées\,  Paris\,  France 
SUMMARY:Paris\,  France
DESCRIPTION: Paris Opera Competition (Finalist) Repertoire including extracts from Don Giovanni (Donna Elvira)\,  Lucia di Lammermoor (Lucia) and; Die Zauberflöte (Königin der Nacht).
END:VEVENT
END:VCALENDAR