BEGIN:VCALENDAR
VERSION:2.0
PRODID:-//eventon.com NONSGML v1.0//EN
BEGIN:VEVENT
UID:69e736a20b8fe
DTSTAMP:20260421T083442
DTSTART:20190126T190000Z
DTEND:20190126T235000Z
LOCATION:Deutsche Oper am Rhein\,  Duisburg\,  Germany 
SUMMARY:Duisburg\,  Germany
DESCRIPTION: Siegfried\,  Der Ring des Nibelungen\,  Wagner Der Waldvogel
END:VEVENT
END:VCALENDAR