BEGIN:VCALENDAR
VERSION:2.0
PRODID:-//eventon.com NONSGML v1.0//EN
BEGIN:VEVENT
UID:69e7367058bab
DTSTAMP:20260421T083352
DTSTART:20190210T190000Z
DTEND:20190210T200000Z
LOCATION:Deutsche Oper am Rhein\,  Duisburg\,  Germany 
SUMMARY:Duisburg\,  Germany
DESCRIPTION: Siegfried\,  Der Ring des Nibelungen\,  Wagner Der Waldvogel
END:VEVENT
END:VCALENDAR