BEGIN:VCALENDAR
VERSION:2.0
PRODID:-//eventon.com NONSGML v1.0//EN
BEGIN:VEVENT
UID:69e7375a5f382
DTSTAMP:20260421T083746
DTSTART:20190207T193000Z
DTEND:20190207T235000Z
LOCATION:The Pheasantry\,  London 
SUMMARY:London\,  UK
DESCRIPTION: Recital with William Vann &nbsp; Rachmaninov Britten Shostakovich
END:VEVENT
END:VCALENDAR