BEGIN:VCALENDAR
VERSION:2.0
PRODID:-//eventon.com NONSGML v1.0//EN
BEGIN:VEVENT
UID:69e73671d141d
DTSTAMP:20260421T083353
DTSTART:20190220T190000Z
DTEND:20190220T235000Z
LOCATION:Fundacion Juan March\,  Madrid\,  Spain 
SUMMARY:Madrid\,  Spain
DESCRIPTION: Recital with Roger Vignoles &nbsp; Britten Shostakovich
END:VEVENT
END:VCALENDAR