BEGIN:VCALENDAR
VERSION:2.0
PRODID:-//eventon.com NONSGML v1.0//EN
BEGIN:VEVENT
UID:69e73d580654a
DTSTAMP:20260421T090320
DTSTART:20190225T190000Z
DTEND:20190227T190000Z
LOCATION:Hyperion Records\,  UK 
SUMMARY:Recording\,  Hyperion Records
DESCRIPTION: Debut CD Recording with Roger Vignoles Rachmaninov
END:VEVENT
END:VCALENDAR