BEGIN:VCALENDAR
VERSION:2.0
PRODID:-//eventon.com NONSGML v1.0//EN
BEGIN:VEVENT
UID:69e73a0d5d73e
DTSTAMP:20260421T084917
DTSTART:20190407T190000Z
DTEND:20190407T235000Z
LOCATION:Blackheath Halls\,  London 
SUMMARY:London\,  UK
DESCRIPTION: Recital with Roger Vignoles &nbsp; Rachmaninov Britten Strauss Debussy
END:VEVENT
END:VCALENDAR