BEGIN:VCALENDAR
VERSION:2.0
PRODID:-//eventon.com NONSGML v1.0//EN
BEGIN:VEVENT
UID:69e737f1afacb
DTSTAMP:20260421T084017
DTSTART:20190504T190000Z
DTEND:20190504T235000Z
LOCATION:Scottish Opera\,  Theatre Royal Glasgow\,  Scotland 
SUMMARY:Glasgow\,  Scotland
DESCRIPTION: Mozart: Die Zauberflöte The Queen of the Night
END:VEVENT
END:VCALENDAR