BEGIN:VCALENDAR
VERSION:2.0
PRODID:-//eventon.com NONSGML v1.0//EN
BEGIN:VEVENT
UID:69e738733e48e
DTSTAMP:20260421T084227
DTSTART:20190508T190000Z
DTEND:20190508T200000Z
LOCATION:Scottish Opera\,  Theatre Royal Glasgow\,  Scotland 
SUMMARY:Glasgow\,  Scotland
DESCRIPTION: Mozart: Die Zauberflöte The Queen of the Night
END:VEVENT
END:VCALENDAR