BEGIN:VCALENDAR
VERSION:2.0
PRODID:-//eventon.com NONSGML v1.0//EN
BEGIN:VEVENT
UID:69e73a89ae19f
DTSTAMP:20260421T085121
DTSTART:20190512T190000Z
DTEND:20190512T200000Z
LOCATION:Scottish Opera\,  Theatre Royal Glasgow\,  Scotland 
SUMMARY:Glasgow\,  Scotland
DESCRIPTION: Mozart: Die Zauberflöte The Queen of the Night
END:VEVENT
END:VCALENDAR