BEGIN:VCALENDAR
VERSION:2.0
PRODID:-//eventon.com NONSGML v1.0//EN
BEGIN:VEVENT
UID:69e737bcc81b3
DTSTAMP:20260421T083924
DTSTART:20190525T190000Z
DTEND:20190525T200000Z
LOCATION:Scottish Opera\,  Theatre Royal Glasgow\,  Scotland 
SUMMARY:Glasgow\,  Scotland
DESCRIPTION: Mozart: Die Zauberflöte The Queen of the Night
END:VEVENT
END:VCALENDAR