BEGIN:VCALENDAR
VERSION:2.0
PRODID:-//eventon.com NONSGML v1.0//EN
BEGIN:VEVENT
UID:69e73826dd7ce
DTSTAMP:20260421T084110
DTSTART:20190601T190000Z
DTEND:20190601T200000Z
LOCATION:Scottish Opera\,  Theatre Royal Glasgow\,  Scotland 
SUMMARY:Glasgow\,  Scotland
DESCRIPTION: Mozart: Die Zauberflöte The Queen of the Night
END:VEVENT
END:VCALENDAR