BEGIN:VCALENDAR
VERSION:2.0
PRODID:-//eventon.com NONSGML v1.0//EN
BEGIN:VEVENT
UID:69e7381ca38c1
DTSTAMP:20260421T084100
DTSTART:20200418T170000Z
DTEND:20200418T235000Z
LOCATION:Teatro Municipal Santiago de Chile 
SUMMARY:Santiago\,  Chile
DESCRIPTION: The Queen of the Night Die Zauberflöte Mozart
END:VEVENT
END:VCALENDAR