BEGIN:VCALENDAR
VERSION:2.0
PRODID:-//eventon.com NONSGML v1.0//EN
BEGIN:VEVENT
UID:69e737da24303
DTSTAMP:20260421T083954
DTSTART:20200422T190000Z
DTEND:20200422T235000Z
LOCATION:Teatro Municipal Santiago de Chile 
SUMMARY:Santiago\,  Chile
DESCRIPTION: The Queen of the Night Die Zauberflöte Mozart
END:VEVENT
END:VCALENDAR