BEGIN:VCALENDAR
VERSION:2.0
PRODID:-//eventon.com NONSGML v1.0//EN
BEGIN:VEVENT
UID:69e737238e02b
DTSTAMP:20260421T083651
DTSTART:20191205T190000Z
DTEND:20191205T235000Z
LOCATION:Lumbers of Leicester 
SUMMARY:Leicester\,  UK
DESCRIPTION: Hope Against Cancer Opera Gala Verdi\,  Puccini and Donizetti
END:VEVENT
END:VCALENDAR