BEGIN:VCALENDAR
VERSION:2.0
PRODID:-//eventon.com NONSGML v1.0//EN
BEGIN:VEVENT
UID:69e7377b5568f
DTSTAMP:20260421T083819
DTSTART:20200312T193000Z
DTEND:20200312T235000Z
LOCATION:Deutsche Oper am Rhein\,  Duisburg\,  Germany 
SUMMARY:Duisburg\,  Germany
DESCRIPTION: Ravel: L'enfant et les sortilège Le Feu/La Princesse/Le Rossignol​
END:VEVENT
END:VCALENDAR