BEGIN:VCALENDAR
VERSION:2.0
PRODID:-//eventon.com NONSGML v1.0//EN
BEGIN:VEVENT
UID:69e737f257da3
DTSTAMP:20260421T084018
DTSTART:20201101T190000Z
DTEND:20201101T235000Z
LOCATION:Opernhaus Düsseldorf\,  Deutsche Oper am Rhein\,  Dusseldorf\,  Germany 
SUMMARY:Düsseldorf\,  Germany
DESCRIPTION: November-December 2020 (TO BE RESCHEDULED AT A LATER DATE) Mozart: Die Königin der Nacht - Die Zauberflöte &nbsp;
END:VEVENT
END:VCALENDAR