BEGIN:VCALENDAR
VERSION:2.0
PRODID:-//eventon.com NONSGML v1.0//EN
BEGIN:VEVENT
UID:69e738613a237
DTSTAMP:20260421T084209
DTSTART:20201104T190000Z
DTEND:20201104T235000Z
LOCATION:Semperoper Dresden\,  Germany 
SUMMARY:Dresden\,  Germany
DESCRIPTION: Mozart: Die Königin der Nacht - Die Zauberflöte New Production by Josef E Köpplinger. Conducted by Omer Meir Wellber\,  Evan Rogister\,  Jonathan Darlington\,  Michael Balke\,  Michele Gamba\,  and Gabor Kali.
END:VEVENT
END:VCALENDAR