BEGIN:VCALENDAR
VERSION:2.0
PRODID:-//eventon.com NONSGML v1.0//EN
BEGIN:VEVENT
UID:69e737d99d5ef
DTSTAMP:20260421T083953
DTSTART:20210318T190000Z
DTEND:20210318T235000Z
LOCATION:Semperoper Dresden\,  Germany 
SUMMARY:Dresden\,  Germany
DESCRIPTION: Mozart: Die Königin der Nacht - Die Zauberflöte New Production by Josef E Köpplinger. Conducted by Omer Meir Wellber\,  Evan Rogister\,  Jonathan Darlington\,  Michael Balke\,  Michele Gamba\,  and Gabor Kali.
END:VEVENT
END:VCALENDAR