BEGIN:VCALENDAR
VERSION:2.0
PRODID:-//eventon.com NONSGML v1.0//EN
BEGIN:VEVENT
UID:69e7388e0d986
DTSTAMP:20260421T084254
DTSTART:20210210T190000Z
DTEND:20210210T235000Z
LOCATION:Deutsche Oper am Rhein\,  Duisburg\,  Germany 
SUMMARY:Duisburg\,  Germany
DESCRIPTION: Bellini: Elvira - I Puritani Production by Rolando Villazon\,  Conductor TBA.
END:VEVENT
END:VCALENDAR