BEGIN:VCALENDAR
VERSION:2.0
PRODID:-//eventon.com NONSGML v1.0//EN
BEGIN:VEVENT
UID:69e73fe3d94a9
DTSTAMP:20260421T091411
DTSTART:20210429T124500Z
DTEND:20210429T235000Z
LOCATION:Imperial College\,  London 
SUMMARY:London\,  UK
DESCRIPTION: Concert with William Vann. The concert will be live-streamed. Watch it here: https://youtu.be/H5whVGme-nA &nbsp;
END:VEVENT
END:VCALENDAR