BEGIN:VCALENDAR
VERSION:2.0
PRODID:-//eventon.com NONSGML v1.0//EN
BEGIN:VEVENT
UID:69e7377acf39c
DTSTAMP:20260421T083818
DTSTART:20210613T190000Z
DTEND:20210613T235000Z
LOCATION:Deutsche Oper am Rhein\,  Duisburg\,  Germany 
SUMMARY:Düsseldorf\,  Germany
DESCRIPTION: Wagner: Waldvogel - Siegfried - Der Ring des Nibelungen. Production by Dietrich Hilsdorf. Conducted by Axel Kober
END:VEVENT
END:VCALENDAR