BEGIN:VCALENDAR
VERSION:2.0
PRODID:-//eventon.com NONSGML v1.0//EN
BEGIN:VEVENT
UID:69e7388e1c85e
DTSTAMP:20260421T084254
DTSTART:20210505T000000Z
DTEND:20210506T235900Z
LOCATION:
SUMMARY:London\,  UK
DESCRIPTION: Recording of new solo album with Chandos and Christopher Glynn. Details to be announced shortly.
END:VEVENT
END:VCALENDAR