BEGIN:VCALENDAR
VERSION:2.0
PRODID:-//eventon.com NONSGML v1.0//EN
BEGIN:VEVENT
UID:69e7372219235
DTSTAMP:20260421T083650
DTSTART:20210626T110000Z
DTEND:20210626T235000Z
LOCATION:Festspielhaus Hellerau 
SUMMARY:Dresden\,  Germany
DESCRIPTION: Internationale Shostakovich Tage Concert of Shostakovich War Songs\,  Preludes and Songs by Alexander Blok Featuring Julia Sitkovetsky\,  Dmitry Sitkovetsky\,  Yulianna Avdeeva and Friedrich Thiele
END:VEVENT
END:VCALENDAR