BEGIN:VCALENDAR
VERSION:2.0
PRODID:-//eventon.com NONSGML v1.0//EN
BEGIN:VEVENT
UID:69e73738910c2
DTSTAMP:20260421T083712
DTSTART:20210627T190000Z
DTEND:20210627T235000Z
LOCATION:Semperoper Dresden\,  Germany 
SUMMARY:Dresden\,  Germany
DESCRIPTION: Die Königin der Nacht Production by Josef E Köpplinger Conducted by Michele Gamba
END:VEVENT
END:VCALENDAR