BEGIN:VCALENDAR
VERSION:2.0
PRODID:-//eventon.com NONSGML v1.0//EN
BEGIN:VEVENT
UID:69e737d1bbe17
DTSTAMP:20260421T083945
DTSTART:20210911T190000Z
DTEND:20210911T235000Z
LOCATION:Semperoper Dresden\,  Germany 
SUMMARY:Dresden\,  Germany
DESCRIPTION: Die Königin der Nacht Production by Josef E Köpplinger Conducted by Michael Balke
END:VEVENT
END:VCALENDAR