BEGIN:VCALENDAR
VERSION:2.0
PRODID:-//eventon.com NONSGML v1.0//EN
BEGIN:VEVENT
UID:69e736c80e54f
DTSTAMP:20260421T083520
DTSTART:20211105T190000Z
DTEND:20211105T235000Z
LOCATION:Semperoper Dresden\,  Germany 
SUMMARY:Dresden\,  Germany
DESCRIPTION: Die Königin der Nacht Production by Josef E Köpplinger Conducted by Michael Balke
END:VEVENT
END:VCALENDAR