BEGIN:VCALENDAR
VERSION:2.0
PRODID:-//eventon.com NONSGML v1.0//EN
BEGIN:VEVENT
UID:69e7386a619d0
DTSTAMP:20260421T084218
DTSTART:20220319T190000Z
DTEND:20220319T235000Z
LOCATION:Semperoper Dresden\,  Germany 
SUMMARY:Dresden\,  Germany
DESCRIPTION: Die Königin der Nacht Production by Josef E Köpplinger Conducted by Michael Balke
END:VEVENT
END:VCALENDAR