BEGIN:VCALENDAR
VERSION:2.0
PRODID:-//eventon.com NONSGML v1.0//EN
BEGIN:VEVENT
UID:69e737da9ddd0
DTSTAMP:20260421T083954
DTSTART:20211203T193000Z
DTEND:20211203T235000Z
LOCATION:Komische Oper Berlin 
SUMMARY:Berlin\,  Germany
DESCRIPTION: Die Königin der Nacht Production by Barrie Kosky Conducted by Ainars Rubikis
END:VEVENT
END:VCALENDAR