BEGIN:VCALENDAR
VERSION:2.0
PRODID:-//eventon.com NONSGML v1.0//EN
BEGIN:VEVENT
UID:69e7379a7f093
DTSTAMP:20260421T083850
DTSTART:20211210T193000Z
DTEND:20211210T235000Z
LOCATION:Komische Oper Berlin 
SUMMARY:Berlin\,  Germany
DESCRIPTION: Die Königin der Nacht Production by Barrie Kosky Conducted by Ainars Rubikis
END:VEVENT
END:VCALENDAR