BEGIN:VCALENDAR
VERSION:2.0
PRODID:-//eventon.com NONSGML v1.0//EN
BEGIN:VEVENT
UID:69e73737018fe
DTSTAMP:20260421T083711
DTSTART:20220304T193000Z
DTEND:20220304T235000Z
LOCATION:Opernhaus Düsseldorf\,  Deutsche Oper am Rhein\,  Dusseldorf\,  Germany 
SUMMARY:Düsseldorf\,  Germany
DESCRIPTION: Die Königin der Nacht - Die Zauberflöte Conductor: Péter Halász Director: Barrie Kosky/Suzanne Andrade
END:VEVENT
END:VCALENDAR