BEGIN:VCALENDAR
VERSION:2.0
PRODID:-//eventon.com NONSGML v1.0//EN
BEGIN:VEVENT
UID:69e73a505c338
DTSTAMP:20260421T085024
DTSTART:20220719T193000Z
DTEND:20220719T235000Z
LOCATION:Petworth Festival\,  Petworth\,  UK 
SUMMARY:Petworth Festival\,  UK
DESCRIPTION: Programme of Rachmaninov Songs\,  Shostakovich War Songs and settings by Alexander Blok with Dmitry Sitkovetsky\,  Iain Burnside and Tim Hugh. Tickets and more information here: https://www.petworthfestival.org.uk/whats-on/
END:VEVENT
END:VCALENDAR