BEGIN:VCALENDAR
VERSION:2.0
PRODID:-//eventon.com NONSGML v1.0//EN
BEGIN:VEVENT
UID:69e73825d8cad
DTSTAMP:20260421T084109
DTSTART:20211001T000000Z
DTEND:20211001T235900Z
LOCATION:
SUMMARY:London\,  UK
DESCRIPTION: Release of ‘Where Corals Lie: A Journey through Songs by Edward Elgar’ with pianist Christopher Glynn with Chandos Records. Available to stream on all major streaming platforms from October 1st. Preorder
END:VEVENT
END:VCALENDAR