BEGIN:VCALENDAR
VERSION:2.0
PRODID:-//eventon.com NONSGML v1.0//EN
BEGIN:VEVENT
UID:69e737d9586f5
DTSTAMP:20260421T083953
DTSTART:20211010T180000Z
DTEND:20211010T235000Z
LOCATION:Komische Oper Berlin 
SUMMARY:Berlin\,  Germany
DESCRIPTION: Die Königin der Nacht - Die Zauberflöte Conductor: Elisa Gogou Director: Barrie Kosky
END:VEVENT
END:VCALENDAR