BEGIN:VCALENDAR
VERSION:2.0
PRODID:-//eventon.com NONSGML v1.0//EN
BEGIN:VEVENT
UID:69e7377f3a8d3
DTSTAMP:20260421T083823
DTSTART:20220211T193000Z
DTEND:20220211T235000Z
LOCATION:Opernhaus Düsseldorf\,  Deutsche Oper am Rhein\,  Dusseldorf\,  Germany 
SUMMARY:Düsseldorf\,  Germany
DESCRIPTION: Die Königin der Nacht - Die Zauberflöte Conductor: Axel Kober Director: Barrie Kosky/Suzanne Andrade
END:VEVENT
END:VCALENDAR